BEGIN:VCALENDAR
VERSION:2.0
PRODID:-//wp-events-plugin.com//7.1.7//EN
TZID:America/Toronto
X-WR-TIMEZONE:America/Toronto
BEGIN:VEVENT
UID:62@gbghf.ca
DTSTART;TZID=America/Toronto:20240619T144500
DTEND;TZID=America/Toronto:20240619T180000
DTSTAMP:20241119T210846Z
URL:https://gbghf.ca/board-portal/events/impact-market/
SUMMARY:Impact Market
DESCRIPTION:\n\nJoin us for the 3rd annual Impact Market!\n\n\n\n\n\nJoin t
 he GBGH Foundation\, and representatives from Georgian Bay General Hospita
 l\, for a drop-in celebration to see the impact of your generosity on our 
 hospital\, and enjoy tasty appetizers from Feast Catering.\n\nAs a Board M
 ember\, you will chat with guests about the hospital and Foundation\, and 
 thank them for their generous support.  You could also choose to help out
  with registration or with a Foundation booth.\n\n\n
LOCATION:GBGH\, Boardroom\, 1112 St. Andrew's Drive\, Tiny\, ON\, L4R 4P4\,
  Canada
X-APPLE-STRUCTURED-LOCATION;VALUE=URI;X-ADDRESS=1112 St. Andrew's Drive\, T
 iny\, ON\, L4R 4P4\, Canada;X-APPLE-RADIUS=100;X-TITLE=GBGH\, Boardroom:ge
 o:0,0
END:VEVENT
BEGIN:VTIMEZONE
TZID:America/Toronto
X-LIC-LOCATION:America/Toronto
BEGIN:DAYLIGHT
DTSTART:20240310T030000
TZOFFSETFROM:-0500
TZOFFSETTO:-0400
TZNAME:EDT
END:DAYLIGHT
END:VTIMEZONE
END:VCALENDAR