BEGIN:VCALENDAR
VERSION:2.0
PRODID:-//wp-events-plugin.com//7.1.7//EN
TZID:America/Toronto
X-WR-TIMEZONE:America/Toronto
BEGIN:VEVENT
UID:95@gbghf.ca
DTSTART;TZID=America/Toronto:20240914T150000
DTEND;TZID=America/Toronto:20240914T183000
DTSTAMP:20240709T172219Z
URL:https://gbghf.ca/board-portal/events/million-dollar-dinner-2/
SUMMARY:Million Dollar Dinner
DESCRIPTION:Attendance to Include:\n\nBoard Chair\n\nBoard Vice-Chair\n\nHo
 spital CEO\n\nUp to 4 other Board members with prospect from network that 
 can give minimum $100k. Board members are asked to discuss with Nicole &am
 p\; Jesse in advance of possible attendance.\n\n&nbsp\;
END:VEVENT
BEGIN:VTIMEZONE
TZID:America/Toronto
X-LIC-LOCATION:America/Toronto
BEGIN:DAYLIGHT
DTSTART:20240310T030000
TZOFFSETFROM:-0500
TZOFFSETTO:-0400
TZNAME:EDT
END:DAYLIGHT
END:VTIMEZONE
END:VCALENDAR